{
 "version": 1.0,
 "tileBundlesPath": "./tile",
 "storageInfo": {
  "packetSize": 128,
  "storageFormat": "esriMapCacheStorageModeCompactV2"
 },
 "tileImageInfo": {
  "format": "MIXED",
  "compressionQuality": 75,
  "bandCount": 1,
  "lercError": 0
 },
 "tileInfo": {
  "spatialReference": {
   "wkid": 3382,
   "latestWkid": 3382
  },
  "origin": {
   "x": -1.0001988435980313E7,
   "y": 9402528.994299512
  },
  "rows": 256,
  "cols": 256,
  "dpi": 96,
  "lods": [
   {
    "level": 0,
    "resolution": 78140.35173422119,
    "scale": 2.9533361285374933E8
   },
   {
    "level": 1,
    "resolution": 39070.17586711059,
    "scale": 1.4766680642687467E8
   },
   {
    "level": 2,
    "resolution": 19535.087933555296,
    "scale": 7.383340321343733E7
   },
   {
    "level": 3,
    "resolution": 9767.543966777648,
    "scale": 3.691670160671867E7
   },
   {
    "level": 4,
    "resolution": 4883.771983388824,
    "scale": 1.8458350803359333E7
   },
   {
    "level": 5,
    "resolution": 2441.885991694412,
    "scale": 9229175.401679667
   },
   {
    "level": 6,
    "resolution": 1220.942995847206,
    "scale": 4614587.700839833
   },
   {
    "level": 7,
    "resolution": 610.471497923603,
    "scale": 2307293.8504199167
   },
   {
    "level": 8,
    "resolution": 305.2357489618015,
    "scale": 1153646.9252099583
   },
   {
    "level": 9,
    "resolution": 152.61787448090075,
    "scale": 576823.4626049792
   },
   {
    "level": 10,
    "resolution": 76.30893724045038,
    "scale": 288411.7313024896
   },
   {
    "level": 11,
    "resolution": 38.15446862022519,
    "scale": 144205.8656512448
   },
   {
    "level": 12,
    "resolution": 19.077234310112594,
    "scale": 72102.9328256224
   },
   {
    "level": 13,
    "resolution": 9.538617155056297,
    "scale": 36051.4664128112
   },
   {
    "level": 14,
    "resolution": 4.7693085775281485,
    "scale": 18025.7332064056
   },
   {
    "level": 15,
    "resolution": 2.3846542887640743,
    "scale": 9012.8666032028
   },
   {
    "level": 16,
    "resolution": 1.1923271443820371,
    "scale": 4506.4333016014
   },
   {
    "level": 17,
    "resolution": 0.5961635721910186,
    "scale": 2253.2166508007
   },
   {
    "level": 18,
    "resolution": 0.2980817860955093,
    "scale": 1126.60832540035
   }
  ],
  "format": "MIXED",
  "compressionQuality": 75,
  "bandCount": 1,
  "lercError": 0,
  "storageFormat": "esriMapCacheStorageModeCompactV2",
  "packetSize": 128
 },
 "name": "Map",
 "serviceDescription": "",
 "spatialReference": {
  "wkid": 3382,
  "latestWkid": 3382,
  "xyTolerance": 0.001,
  "zTolerance": 0.001,
  "mTolerance": 0.001,
  "falseX": -5009600,
  "falseY": -10601600,
  "xyUnits": 10000,
  "falseZ": -100000,
  "zUnits": 10000,
  "falseM": -100000,
  "mUnits": 10000
 },
 "units": "esriMeters",
 "minLOD": 11,
 "maxLOD": 16,
 "resampling": true,
 "layers": [
  {
   "id": 4,
   "name": "Change_Detection.tif",
   "parentLayerId": -1,
   "defaultVisibility": true,
   "subLayerIds": null,
   "minScale": 0,
   "maxScale": 0,
   "type": "Raster Layer",
   "supportsDynamicLegends": true,
   "legend": [
    {
     "label": "253.889 - -249.444",
     "imageData": "iVBORw0KGgoAAAANSUhEUgAAABQAAAA8CAYAAABmdppWAAAACXBIWXMAAA7EAAAOxAGVKw4bAAAA0klEQVRYhc3W2xGDMAxEURlkk0cFqSb91xMGCySsNHE/TAFnzFirtY7vJwX8NN8L6YmWV2FBeaKeaHkkfcICg9uYHWwOgxsNNviXc6NvudHRa8qC0tbJweRPuMBgpcEGz2HSSZF6s2A2HBwwWPFLURislQaVBQe+HCocPUc5Ee0BP0VODxY0HAy46M3hLJvDWT4dTkp3eLBPGjSHB9tizA5ecElZ4Fm+WbDjWb7gsTlinRw0h8FOgxbwcjjoBfujt80ON706XfQr3Xr040ZvdnvJH/MxYZM8HPSrAAAAAElFTkSuQmCC",
     "contentType": "image/png",
     "groupId": "0",
     "height": 60,
     "width": 20,
     "layerId": 4,
     "layerName": "Change_Detection.tif"
    }
   ],
   "layerId": 4,
   "layerName": "Change_Detection.tif",
   "serviceItemId": "f587953b2c184df189c4cad715825bf3"
  }
 ],
 "initialExtent": {
  "xmin": -18751.177434129415,
  "ymin": -21703.204823650234,
  "xmax": 163.5241540651259,
  "ymax": 6838.529868207766,
  "spatialReference": {
   "wkid": 3382,
   "latestWkid": 3382
  }
 },
 "fullExtent": {
  "xmin": -18751.177434129415,
  "ymin": -21703.204823650234,
  "xmax": 163.5241540651259,
  "ymax": 6838.529868207766,
  "spatialReference": {
   "wkid": 3382,
   "latestWkid": 3382
  }
 },
 "minScale": 0,
 "maxScale": 0,
 "exportTilesAllowed": false,
 "maxExportTilesCount": 0,
 "currentVersion": 11.4,
 "mapName": "Map",
 "singleFusedMapCache": true,
 "type": "MapServer",
 "supportedExtensions": "",
 "capabilities": "TilesOnly,Tilemap",
 "serviceItemId": "f587953b2c184df189c4cad715825bf3"
}
